BEGIN:VCALENDAR
VERSION:2.0
PRODID:-//Legend Oaks Golf &amp; Tennis Club - Summerville, SC - ECPv6.15.20//NONSGML v1.0//EN
CALSCALE:GREGORIAN
METHOD:PUBLISH
X-WR-CALNAME:Legend Oaks Golf &amp; Tennis Club - Summerville, SC
X-ORIGINAL-URL:https://legendoaksgolf.com
X-WR-CALDESC:Events for Legend Oaks Golf &amp; Tennis Club - Summerville, SC
REFRESH-INTERVAL;VALUE=DURATION:PT1H
X-Robots-Tag:noindex
X-PUBLISHED-TTL:PT1H
BEGIN:VTIMEZONE
TZID:America/New_York
BEGIN:DAYLIGHT
TZOFFSETFROM:-0500
TZOFFSETTO:-0400
TZNAME:EDT
DTSTART:20250309T070000
END:DAYLIGHT
BEGIN:STANDARD
TZOFFSETFROM:-0400
TZOFFSETTO:-0500
TZNAME:EST
DTSTART:20251102T060000
END:STANDARD
BEGIN:DAYLIGHT
TZOFFSETFROM:-0500
TZOFFSETTO:-0400
TZNAME:EDT
DTSTART:20260308T070000
END:DAYLIGHT
BEGIN:STANDARD
TZOFFSETFROM:-0400
TZOFFSETTO:-0500
TZNAME:EST
DTSTART:20261101T060000
END:STANDARD
BEGIN:DAYLIGHT
TZOFFSETFROM:-0500
TZOFFSETTO:-0400
TZNAME:EDT
DTSTART:20270314T070000
END:DAYLIGHT
BEGIN:STANDARD
TZOFFSETFROM:-0400
TZOFFSETTO:-0500
TZNAME:EST
DTSTART:20271107T060000
END:STANDARD
END:VTIMEZONE
BEGIN:VEVENT
DTSTART;TZID=America/New_York:20260330T100000
DTEND;TZID=America/New_York:20260402T120000
DTSTAMP:20260421T072749
CREATED:20260306T161846Z
LAST-MODIFIED:20260306T161847Z
UID:10003578-1774864800-1775131200@legendoaksgolf.com
SUMMARY:Spring Break Clinic
DESCRIPTION:
URL:https://legendoaksgolf.com/event/spring-break-clinic/
END:VEVENT
BEGIN:VEVENT
DTSTART;TZID=America/New_York:20260331T000000
DTEND;TZID=America/New_York:20260331T235959
DTSTAMP:20260421T072749
CREATED:20260317T165023Z
LAST-MODIFIED:20260317T165127Z
UID:10003593-1774915200-1775001599@legendoaksgolf.com
SUMMARY:CLOSED
DESCRIPTION:We will be hosting a tournament for 240 at risk youth. We will need all resources to help this go off smoothly so we will be closed for the day. *The spring break clinic will go on as scheduled*
URL:https://legendoaksgolf.com/event/closed-3/
END:VEVENT
END:VCALENDAR