BEGIN:VCALENDAR
VERSION:2.0
PRODID:-//Legend Oaks Golf &amp; Tennis Club - Summerville, SC - ECPv6.15.20//NONSGML v1.0//EN
CALSCALE:GREGORIAN
METHOD:PUBLISH
X-WR-CALNAME:Legend Oaks Golf &amp; Tennis Club - Summerville, SC
X-ORIGINAL-URL:https://legendoaksgolf.com
X-WR-CALDESC:Events for Legend Oaks Golf &amp; Tennis Club - Summerville, SC
REFRESH-INTERVAL;VALUE=DURATION:PT1H
X-Robots-Tag:noindex
X-PUBLISHED-TTL:PT1H
BEGIN:VTIMEZONE
TZID:America/New_York
BEGIN:DAYLIGHT
TZOFFSETFROM:-0500
TZOFFSETTO:-0400
TZNAME:EDT
DTSTART:20290311T070000
END:DAYLIGHT
BEGIN:STANDARD
TZOFFSETFROM:-0400
TZOFFSETTO:-0500
TZNAME:EST
DTSTART:20291104T060000
END:STANDARD
BEGIN:DAYLIGHT
TZOFFSETFROM:-0500
TZOFFSETTO:-0400
TZNAME:EDT
DTSTART:20300310T070000
END:DAYLIGHT
BEGIN:STANDARD
TZOFFSETFROM:-0400
TZOFFSETTO:-0500
TZNAME:EST
DTSTART:20301103T060000
END:STANDARD
BEGIN:DAYLIGHT
TZOFFSETFROM:-0500
TZOFFSETTO:-0400
TZNAME:EDT
DTSTART:20310309T070000
END:DAYLIGHT
BEGIN:STANDARD
TZOFFSETFROM:-0400
TZOFFSETTO:-0500
TZNAME:EST
DTSTART:20311102T060000
END:STANDARD
END:VTIMEZONE
BEGIN:VEVENT
DTSTART;TZID=America/New_York:20300117T190000
DTEND;TZID=America/New_York:20300117T210000
DTSTAMP:20260422T063348
CREATED:20250826T133140Z
LAST-MODIFIED:20251120T183532Z
UID:10003142-1894906800-1894914000@legendoaksgolf.com
SUMMARY:Trivia
DESCRIPTION:
URL:https://legendoaksgolf.com/event/trivia-13/2030-01-17/
END:VEVENT
BEGIN:VEVENT
DTSTART;TZID=America/New_York:20300118T190000
DTEND;TZID=America/New_York:20300118T220000
DTSTAMP:20260422T063348
CREATED:20251013T154604Z
LAST-MODIFIED:20260222T171040Z
UID:10003446-1894993200-1895004000@legendoaksgolf.com
SUMMARY:Live Music
DESCRIPTION:
URL:https://legendoaksgolf.com/event/live-music-27/2030-01-18/
END:VEVENT
BEGIN:VEVENT
DTSTART;TZID=America/New_York:20300124T190000
DTEND;TZID=America/New_York:20300124T210000
DTSTAMP:20260422T063348
CREATED:20250826T133140Z
LAST-MODIFIED:20251120T183532Z
UID:10003143-1895511600-1895518800@legendoaksgolf.com
SUMMARY:Trivia
DESCRIPTION:
URL:https://legendoaksgolf.com/event/trivia-13/2030-01-24/
END:VEVENT
BEGIN:VEVENT
DTSTART;TZID=America/New_York:20300125T190000
DTEND;TZID=America/New_York:20300125T220000
DTSTAMP:20260422T063348
CREATED:20251013T154604Z
LAST-MODIFIED:20260222T171040Z
UID:10003447-1895598000-1895608800@legendoaksgolf.com
SUMMARY:Live Music
DESCRIPTION:
URL:https://legendoaksgolf.com/event/live-music-27/2030-01-25/
END:VEVENT
BEGIN:VEVENT
DTSTART;TZID=America/New_York:20300131T190000
DTEND;TZID=America/New_York:20300131T210000
DTSTAMP:20260422T063348
CREATED:20250826T133140Z
LAST-MODIFIED:20251120T183532Z
UID:10003144-1896116400-1896123600@legendoaksgolf.com
SUMMARY:Trivia
DESCRIPTION:
URL:https://legendoaksgolf.com/event/trivia-13/2030-01-31/
END:VEVENT
BEGIN:VEVENT
DTSTART;TZID=America/New_York:20300201T190000
DTEND;TZID=America/New_York:20300201T220000
DTSTAMP:20260422T063348
CREATED:20251013T154604Z
LAST-MODIFIED:20260222T171040Z
UID:10003448-1896202800-1896213600@legendoaksgolf.com
SUMMARY:Live Music
DESCRIPTION:
URL:https://legendoaksgolf.com/event/live-music-27/2030-02-01/
END:VEVENT
BEGIN:VEVENT
DTSTART;TZID=America/New_York:20300207T190000
DTEND;TZID=America/New_York:20300207T210000
DTSTAMP:20260422T063348
CREATED:20250826T133140Z
LAST-MODIFIED:20251120T183532Z
UID:10003145-1896721200-1896728400@legendoaksgolf.com
SUMMARY:Trivia
DESCRIPTION:
URL:https://legendoaksgolf.com/event/trivia-13/2030-02-07/
END:VEVENT
BEGIN:VEVENT
DTSTART;TZID=America/New_York:20300208T190000
DTEND;TZID=America/New_York:20300208T220000
DTSTAMP:20260422T063348
CREATED:20251013T154604Z
LAST-MODIFIED:20260222T171040Z
UID:10003449-1896807600-1896818400@legendoaksgolf.com
SUMMARY:Live Music
DESCRIPTION:
URL:https://legendoaksgolf.com/event/live-music-27/2030-02-08/
END:VEVENT
BEGIN:VEVENT
DTSTART;TZID=America/New_York:20300214T190000
DTEND;TZID=America/New_York:20300214T210000
DTSTAMP:20260422T063348
CREATED:20250826T133140Z
LAST-MODIFIED:20251120T183532Z
UID:10003146-1897326000-1897333200@legendoaksgolf.com
SUMMARY:Trivia
DESCRIPTION:
URL:https://legendoaksgolf.com/event/trivia-13/2030-02-14/
END:VEVENT
BEGIN:VEVENT
DTSTART;TZID=America/New_York:20300215T190000
DTEND;TZID=America/New_York:20300215T220000
DTSTAMP:20260422T063348
CREATED:20251013T154604Z
LAST-MODIFIED:20260222T171040Z
UID:10003450-1897412400-1897423200@legendoaksgolf.com
SUMMARY:Live Music
DESCRIPTION:
URL:https://legendoaksgolf.com/event/live-music-27/2030-02-15/
END:VEVENT
BEGIN:VEVENT
DTSTART;TZID=America/New_York:20300221T190000
DTEND;TZID=America/New_York:20300221T210000
DTSTAMP:20260422T063348
CREATED:20250826T133140Z
LAST-MODIFIED:20251120T183532Z
UID:10003147-1897930800-1897938000@legendoaksgolf.com
SUMMARY:Trivia
DESCRIPTION:
URL:https://legendoaksgolf.com/event/trivia-13/2030-02-21/
END:VEVENT
BEGIN:VEVENT
DTSTART;TZID=America/New_York:20300222T190000
DTEND;TZID=America/New_York:20300222T220000
DTSTAMP:20260422T063348
CREATED:20251013T154604Z
LAST-MODIFIED:20260222T171040Z
UID:10003451-1898017200-1898028000@legendoaksgolf.com
SUMMARY:Live Music
DESCRIPTION:
URL:https://legendoaksgolf.com/event/live-music-27/2030-02-22/
END:VEVENT
BEGIN:VEVENT
DTSTART;TZID=America/New_York:20300228T190000
DTEND;TZID=America/New_York:20300228T210000
DTSTAMP:20260422T063348
CREATED:20250826T133140Z
LAST-MODIFIED:20251120T183532Z
UID:10003148-1898535600-1898542800@legendoaksgolf.com
SUMMARY:Trivia
DESCRIPTION:
URL:https://legendoaksgolf.com/event/trivia-13/2030-02-28/
END:VEVENT
BEGIN:VEVENT
DTSTART;TZID=America/New_York:20300301T190000
DTEND;TZID=America/New_York:20300301T220000
DTSTAMP:20260422T063348
CREATED:20251013T154604Z
LAST-MODIFIED:20260222T171040Z
UID:10003452-1898622000-1898632800@legendoaksgolf.com
SUMMARY:Live Music
DESCRIPTION:
URL:https://legendoaksgolf.com/event/live-music-27/2030-03-01/
END:VEVENT
BEGIN:VEVENT
DTSTART;TZID=America/New_York:20300307T190000
DTEND;TZID=America/New_York:20300307T210000
DTSTAMP:20260422T063348
CREATED:20250826T133140Z
LAST-MODIFIED:20251120T183532Z
UID:10003149-1899140400-1899147600@legendoaksgolf.com
SUMMARY:Trivia
DESCRIPTION:
URL:https://legendoaksgolf.com/event/trivia-13/2030-03-07/
END:VEVENT
BEGIN:VEVENT
DTSTART;TZID=America/New_York:20300308T190000
DTEND;TZID=America/New_York:20300308T220000
DTSTAMP:20260422T063348
CREATED:20251013T154604Z
LAST-MODIFIED:20260222T171040Z
UID:10003453-1899226800-1899237600@legendoaksgolf.com
SUMMARY:Live Music
DESCRIPTION:
URL:https://legendoaksgolf.com/event/live-music-27/2030-03-08/
END:VEVENT
BEGIN:VEVENT
DTSTART;TZID=America/New_York:20300314T190000
DTEND;TZID=America/New_York:20300314T210000
DTSTAMP:20260422T063348
CREATED:20250826T133140Z
LAST-MODIFIED:20251120T183532Z
UID:10003150-1899745200-1899752400@legendoaksgolf.com
SUMMARY:Trivia
DESCRIPTION:
URL:https://legendoaksgolf.com/event/trivia-13/2030-03-14/
END:VEVENT
BEGIN:VEVENT
DTSTART;TZID=America/New_York:20300315T190000
DTEND;TZID=America/New_York:20300315T220000
DTSTAMP:20260422T063348
CREATED:20251013T154604Z
LAST-MODIFIED:20260222T171040Z
UID:10003454-1899831600-1899842400@legendoaksgolf.com
SUMMARY:Live Music
DESCRIPTION:
URL:https://legendoaksgolf.com/event/live-music-27/2030-03-15/
END:VEVENT
BEGIN:VEVENT
DTSTART;TZID=America/New_York:20300321T190000
DTEND;TZID=America/New_York:20300321T210000
DTSTAMP:20260422T063348
CREATED:20250826T133140Z
LAST-MODIFIED:20251120T183532Z
UID:10003151-1900350000-1900357200@legendoaksgolf.com
SUMMARY:Trivia
DESCRIPTION:
URL:https://legendoaksgolf.com/event/trivia-13/2030-03-21/
END:VEVENT
BEGIN:VEVENT
DTSTART;TZID=America/New_York:20300322T190000
DTEND;TZID=America/New_York:20300322T220000
DTSTAMP:20260422T063348
CREATED:20251013T154604Z
LAST-MODIFIED:20260222T171040Z
UID:10003455-1900436400-1900447200@legendoaksgolf.com
SUMMARY:Live Music
DESCRIPTION:
URL:https://legendoaksgolf.com/event/live-music-27/2030-03-22/
END:VEVENT
BEGIN:VEVENT
DTSTART;TZID=America/New_York:20300328T190000
DTEND;TZID=America/New_York:20300328T210000
DTSTAMP:20260422T063348
CREATED:20250826T133140Z
LAST-MODIFIED:20251120T183532Z
UID:10003152-1900954800-1900962000@legendoaksgolf.com
SUMMARY:Trivia
DESCRIPTION:
URL:https://legendoaksgolf.com/event/trivia-13/2030-03-28/
END:VEVENT
BEGIN:VEVENT
DTSTART;TZID=America/New_York:20300329T190000
DTEND;TZID=America/New_York:20300329T220000
DTSTAMP:20260422T063348
CREATED:20251013T154604Z
LAST-MODIFIED:20260222T171040Z
UID:10003456-1901041200-1901052000@legendoaksgolf.com
SUMMARY:Live Music
DESCRIPTION:
URL:https://legendoaksgolf.com/event/live-music-27/2030-03-29/
END:VEVENT
BEGIN:VEVENT
DTSTART;TZID=America/New_York:20300404T190000
DTEND;TZID=America/New_York:20300404T210000
DTSTAMP:20260422T063348
CREATED:20250826T133140Z
LAST-MODIFIED:20251120T183532Z
UID:10003153-1901559600-1901566800@legendoaksgolf.com
SUMMARY:Trivia
DESCRIPTION:
URL:https://legendoaksgolf.com/event/trivia-13/2030-04-04/
END:VEVENT
BEGIN:VEVENT
DTSTART;TZID=America/New_York:20300405T190000
DTEND;TZID=America/New_York:20300405T220000
DTSTAMP:20260422T063348
CREATED:20251013T154604Z
LAST-MODIFIED:20260222T171040Z
UID:10003457-1901646000-1901656800@legendoaksgolf.com
SUMMARY:Live Music
DESCRIPTION:
URL:https://legendoaksgolf.com/event/live-music-27/2030-04-05/
END:VEVENT
BEGIN:VEVENT
DTSTART;TZID=America/New_York:20300411T190000
DTEND;TZID=America/New_York:20300411T210000
DTSTAMP:20260422T063348
CREATED:20250826T133140Z
LAST-MODIFIED:20251120T183532Z
UID:10003154-1902164400-1902171600@legendoaksgolf.com
SUMMARY:Trivia
DESCRIPTION:
URL:https://legendoaksgolf.com/event/trivia-13/2030-04-11/
END:VEVENT
BEGIN:VEVENT
DTSTART;TZID=America/New_York:20300412T190000
DTEND;TZID=America/New_York:20300412T220000
DTSTAMP:20260422T063348
CREATED:20251013T154604Z
LAST-MODIFIED:20260222T171040Z
UID:10003458-1902250800-1902261600@legendoaksgolf.com
SUMMARY:Live Music
DESCRIPTION:
URL:https://legendoaksgolf.com/event/live-music-27/2030-04-12/
END:VEVENT
BEGIN:VEVENT
DTSTART;TZID=America/New_York:20300418T190000
DTEND;TZID=America/New_York:20300418T210000
DTSTAMP:20260422T063348
CREATED:20250826T133140Z
LAST-MODIFIED:20251120T183532Z
UID:10003155-1902769200-1902776400@legendoaksgolf.com
SUMMARY:Trivia
DESCRIPTION:
URL:https://legendoaksgolf.com/event/trivia-13/2030-04-18/
END:VEVENT
BEGIN:VEVENT
DTSTART;TZID=America/New_York:20300419T190000
DTEND;TZID=America/New_York:20300419T220000
DTSTAMP:20260422T063348
CREATED:20251013T154604Z
LAST-MODIFIED:20260222T171040Z
UID:10003459-1902855600-1902866400@legendoaksgolf.com
SUMMARY:Live Music
DESCRIPTION:
URL:https://legendoaksgolf.com/event/live-music-27/2030-04-19/
END:VEVENT
BEGIN:VEVENT
DTSTART;TZID=America/New_York:20300425T190000
DTEND;TZID=America/New_York:20300425T210000
DTSTAMP:20260422T063348
CREATED:20250826T133140Z
LAST-MODIFIED:20251120T183532Z
UID:10003156-1903374000-1903381200@legendoaksgolf.com
SUMMARY:Trivia
DESCRIPTION:
URL:https://legendoaksgolf.com/event/trivia-13/2030-04-25/
END:VEVENT
BEGIN:VEVENT
DTSTART;TZID=America/New_York:20300426T190000
DTEND;TZID=America/New_York:20300426T220000
DTSTAMP:20260422T063348
CREATED:20251013T154604Z
LAST-MODIFIED:20260222T171040Z
UID:10003460-1903460400-1903471200@legendoaksgolf.com
SUMMARY:Live Music
DESCRIPTION:
URL:https://legendoaksgolf.com/event/live-music-27/2030-04-26/
END:VEVENT
END:VCALENDAR